BEGIN:VCALENDAR
VERSION:2.0
PRODID:-//hacksw/handcal//NONSGML v1.0//EN
BEGIN:VEVENT
SUMMARY:Meeting en salle Paris Pantin
UID:78dc5696-4728-4f23-9aa2-62e2728b841d
DTSTART:20260314T230000Z
DTEND:20260315T230000Z
LOCATION:Localisation   
CATEGORIES:Sportif
STATUS:
DESCRIPTION:<p>Quatre athletes etaient invitees au meeting de Pantin
 en salle sur une piste de 166 metres sur 1000 metres. Victoire
 d'Alicia Perdigao Cordoso et un triple de nos minimes Lou LEBAZ,
 Julie LAGET et Pauline GHILARDI. </p>
 
 <table
 id="ctnResultats">
 	<tbody>
 		<tr>
 			<td>PERDIGAO-CARDOSO
 Alicia</td>
 			<td>1 000m Piste Courte </td>
 			<td>Premiere
 benjamine. 3'20''28</td>
 			<td>40
 pts</td>
 			<td> </td>
 			<td>BEF/13</td>
 		</tr>
 		<tr>
 			<td>GHILARDI
 Pauline</td>
 			<td>1 000m Piste
 Courte </td>
 			<td>Troisieme.minime 3'23''92</td>
 			<td>35
 pts</td>
 			<td> </td>
 			<td>MIF/12</td>
 		</tr>
 		<tr>
 			<td>LAGET
 Julie</td>
 			<td>1 000m Piste Courte </td>
 			<td>deuxieme minime
 3'23''91</td>
 			<td>35
 pts</td>
 			<td> </td>
 			<td>MIF/11</td>
 		</tr>
 		<tr>
 			<td>LEBAZ
 Lou</td>
 			<td>1 000m Piste Courte </td>
 			<td>Premiere minime
 3'19''17</td>
 			<td>37
 pts</td>
 			<td> </td>
 			<td>MIF/12</td>
 		</tr>
 	</tbody>
 </table>
URL;VALUE=URI:https://acsam.sportsregions.fr/evenements/2026/03/15/meeting-en-salle-paris-pantin-2428748
END:VEVENT
END:VCALENDAR
