BEGIN:VCALENDAR
VERSION:2.0
PRODID:-//hacksw/handcal//NONSGML v1.0//EN
BEGIN:VEVENT
SUMMARY:Foulee de Montlignon 10 kilometres et courses jeunes Ecole athle
UID:ffac741a-5104-4012-81bf-d9484158a02d
DTSTART:20260327T230000Z
DTEND:20260328T230000Z
LOCATION:Localisation   
CATEGORIES:Sportif
STATUS:
DESCRIPTION:<p><b>Resultats</b></p>
 
 <table
 id="ctnResultats">
 	<tbody>
 		<tr>
 			<td
 colspan="5">
 			<p>Femmes</p>
 			</td>
 		</tr>
 		<tr>
 			<th>
 			<p>Nom</p>
 			</th>
 			<th>
 			<p>Epreuve</p>
 			</th>
 			<th>
 			<p>Resultat</p>
 			</th>
 			<th>
 			<p>Infos</p>
 			</th>
 		</tr>
 		<tr>
 			<td><a
 href="https://www.athle.fr/athletes/1874580/resultats"
 target="_blank" rel="noreferrer noopener">CORNEZ
 Emma</a></td>
 			<td>10 km ville / TCX</td>
 			<td>40. (2ieme
 SF) <u>45'51</u> (45'50)</td>
 			<td>SEF/02</td>
 		</tr>
 		<tr>
 			<td
 colspan="5">
 			<p>Hommes</p>
 			</td>
 		</tr>
 		<tr>
 			<th>
 			<p>Nom</p>
 			</th>
 			<th>
 			<p>Epreuve</p>
 			</th>
 			<th>
 			<p>Resultat</p>
 			</th>
 			<th>
 			<p>Infos</p>
 			</th>
 		</tr>
 		<tr>
 			<td><a
 href="https://www.athle.fr/athletes/2220653/resultats"
 target="_blank" rel="noreferrer noopener">MARTIN MOREAU
 Theo</a></td>
 			<td>10 km ville / TCX</td>
 			<td>14.
 (3ieme)  (40'13)</td>
 			<td>M1M/86</td>
 		</tr>
 	</tbody>
 </table>
 
 <table>
 	<tbody>
 		<tr>
 			<td>40'45
 Premier cadet)</td>
 			<td>PALACIO
 Martin</td>
 			<td> </td>
 			<td> </td>
 			<td> </td>
 			<td><a
 href="https://www.athle.fr/bases/liste.aspx?frmbase=resultats&frmmode=1&frmespace=0&frmcompetition=314967&frmepreuve=10%20km%20ville%20/%20TCX&frmcategorie=CA&frmsexe=M"
 title="Resultats pour la categorie du participant" target="_blank"
 rel="noreferrer noopener">CAM</a>/
 09  </td>
 		</tr>
 	</tbody>
 </table>
 
 <p> </p>
 
 <p> </p>
URL;VALUE=URI:https://acsam.sportsregions.fr/evenements/2026/03/28/foulee-de-montlignon-10-kilometres-et-courses-jeunes-ecole-athle-2409406
END:VEVENT
END:VCALENDAR
