BEGIN:VCALENDAR
VERSION:2.0
PRODID:-//hacksw/handcal//NONSGML v1.0//EN
BEGIN:VEVENT
SUMMARY:Championnats 95 triathlon benjamins (es) & minimes a  L'Isle Adam
UID:6b639539-1348-4f67-be71-85f86d170b47
DTSTART:20260328T230000Z
DTEND:20260329T230000Z
LOCATION:Localisation   
CATEGORIES:Sportif
STATUS:
DESCRIPTION:<p>Championnats du Val d'Oise de triathlon au stade
 Grante Avenue Paul Thoreau 95290 a l'Isle Adam</p>
 
 <p>22
 records</p>
 
 <table id="ctnResultats">
 	<tbody>
 		<tr>
 			<td
 colspan="9">
 			<p>Triathlon U14 / BEF | F | Resultats
 | </p>
 			</td>
 		</tr>
 		<tr>
 			<th>
 			<p>Place</p>
 			</th>
 			<th>
 			<p>Resultat</p>
 			</th>
 			<th>
 			<p>Nom</p>
 			</th>
 			<th>
 			<p>Club</p>
 			</th>
 			<th>
 			<p>Dept</p>
 			</th>
 			<th>
 			<p>Ligue</p>
 			</th>
 			<th>
 			<p>Infos</p>
 			</th>
 			<th>
 			<p>Niveau</p>
 			</th>
 		</tr>
 		<tr>
 			<td>4</td>
 			<td>104
 pts</td>
 			<td><a
 href="https://www.athle.fr/athletes/2838846/resultats"
 target="_blank" rel="noreferrer noopener">DIAGANA Lalla
 (MTN)</a></td>
 			<td><a
 href="https://www.athle.fr/bases/liste.aspx?frmbase=resultats&frmmode=1&pardisplay=1&frmespace=0&frmcompetition=319176&frmclub=095044"
 target="_blank" rel="noreferrer noopener">Acsam</a></td>
 			<td><a
 href="https://www.athle.fr/bases/liste.aspx?frmbase=resultats&frmmode=1&frmespace=0&frmcompetition=319176&FrmDepartement=095"
 target="_blank" rel="noreferrer noopener">095</a></td>
 			<td><a
 href="https://www.athle.fr/bases/liste.aspx?frmbase=resultats&frmmode=1&frmespace=0&frmcompetition=319176&FrmLigue=I-F"
 target="_blank" rel="noreferrer
 noopener">I-F</a></td>
 			<td>BEF/14</td>
 			<td>R3</td>
 		</tr>
 		<tr>
 			<td
 colspan="2"> </td>
 			<td colspan="7">Pds (2) : 7m42 - Longueur :
 4m20(NC) - 50H (65) :
 9''07(NC)</td>
 		</tr>
 		<tr>
 			<td>5</td>
 			<td>103
 pts</td>
 			<td><a
 href="https://www.athle.fr/athletes/3157356/resultats"
 target="_blank" rel="noreferrer noopener">LOUIBA BELLILI
 Lena</a></td>
 			<td><a
 href="https://www.athle.fr/bases/liste.aspx?frmbase=resultats&frmmode=1&pardisplay=1&frmespace=0&frmcompetition=319176&frmclub=095044"
 target="_blank" rel="noreferrer noopener">Acsam</a></td>
 			<td><a
 href="https://www.athle.fr/bases/liste.aspx?frmbase=resultats&frmmode=1&frmespace=0&frmcompetition=319176&FrmDepartement=095"
 target="_blank" rel="noreferrer noopener">095</a></td>
 			<td><a
 href="https://www.athle.fr/bases/liste.aspx?frmbase=resultats&frmmode=1&frmespace=0&frmcompetition=319176&FrmLigue=I-F"
 target="_blank" rel="noreferrer
 noopener">I-F</a></td>
 			<td>BEF/13</td>
 			<td>R3</td>
 		</tr>
 		<tr>
 			<td
 colspan="2"> </td>
 			<td colspan="7">1000m : 3'24''99 - Hauteur :
 1m22 - Javt4 : 18m97</td>
 		</tr>
 		<tr>
 			<td>33</td>
 			<td>72
 pts</td>
 			<td><a
 href="https://www.athle.fr/athletes/3170425/resultats"
 target="_blank" rel="noreferrer noopener">ALCARAS LORIN
 Elly</a></td>
 			<td><a
 href="https://www.athle.fr/bases/liste.aspx?frmbase=resultats&frmmode=1&pardisplay=1&frmespace=0&frmcompetition=319176&frmclub=095044"
 target="_blank" rel="noreferrer noopener">Acsam</a></td>
 			<td><a
 href="https://www.athle.fr/bases/liste.aspx?frmbase=resultats&frmmode=1&frmespace=0&frmcompetition=319176&FrmDepartement=095"
 target="_blank" rel="noreferrer noopener">095</a></td>
 			<td><a
 href="https://www.athle.fr/bases/liste.aspx?frmbase=resultats&frmmode=1&frmespace=0&frmcompetition=319176&FrmLigue=I-F"
 target="_blank" rel="noreferrer
 noopener">I-F</a></td>
 			<td>BEF/13</td>
 			<td>R6</td>
 		</tr>
 		<tr>
 			<td
 colspan="2"> </td>
 			<td colspan="7">1000m : 3'51''69 - Longueur :
 3m75(NC) - Javt4 : 10m18</td>
 		</tr>
 		<tr>
 			<td>35</td>
 			<td>66
 pts</td>
 			<td><a
 href="https://www.athle.fr/athletes/2614173/resultats"
 target="_blank" rel="noreferrer noopener">MALFROY
 Ines</a></td>
 			<td><a
 href="https://www.athle.fr/bases/liste.aspx?frmbase=resultats&frmmode=1&pardisplay=1&frmespace=0&frmcompetition=319176&frmclub=095044"
 target="_blank" rel="noreferrer noopener">Acsam</a></td>
 			<td><a
 href="https://www.athle.fr/bases/liste.aspx?frmbase=resultats&frmmode=1&frmespace=0&frmcompetition=319176&FrmDepartement=095"
 target="_blank" rel="noreferrer noopener">095</a></td>
 			<td><a
 href="https://www.athle.fr/bases/liste.aspx?frmbase=resultats&frmmode=1&frmespace=0&frmcompetition=319176&FrmLigue=I-F"
 target="_blank" rel="noreferrer
 noopener">I-F</a></td>
 			<td>BEF/14</td>
 			<td>D1</td>
 		</tr>
 		<tr>
 			<td
 colspan="2"> </td>
 			<td colspan="7">Pds (2) : 7m52 - 50m :
 8''51(NC) - Longueur :
 3m26(NC)</td>
 		</tr>
 		<tr>
 			<td>37</td>
 			<td>63
 pts</td>
 			<td><a
 href="https://www.athle.fr/athletes/3136009/resultats"
 target="_blank" rel="noreferrer noopener">LESIRE
 Anais</a></td>
 			<td><a
 href="https://www.athle.fr/bases/liste.aspx?frmbase=resultats&frmmode=1&pardisplay=1&frmespace=0&frmcompetition=319176&frmclub=095044"
 target="_blank" rel="noreferrer noopener">Acsam</a></td>
 			<td><a
 href="https://www.athle.fr/bases/liste.aspx?frmbase=resultats&frmmode=1&frmespace=0&frmcompetition=319176&FrmDepartement=095"
 target="_blank" rel="noreferrer noopener">095</a></td>
 			<td><a
 href="https://www.athle.fr/bases/liste.aspx?frmbase=resultats&frmmode=1&frmespace=0&frmcompetition=319176&FrmLigue=I-F"
 target="_blank" rel="noreferrer
 noopener">I-F</a></td>
 			<td>BEF/13</td>
 			<td>D1</td>
 		</tr>
 		<tr>
 			<td
 colspan="2"> </td>
 			<td colspan="7">Pds (2) : 4m79 - 50m :
 8''22(NC) - Longueur :
 3m06(NC)</td>
 		</tr>
 		<tr>
 			<td>65</td>
 			<td>39
 pts</td>
 			<td><a
 href="https://www.athle.fr/athletes/3347223/resultats"
 target="_blank" rel="noreferrer noopener">HABIB
 Victoire</a></td>
 			<td><a
 href="https://www.athle.fr/bases/liste.aspx?frmbase=resultats&frmmode=1&pardisplay=1&frmespace=0&frmcompetition=319176&frmclub=095044"
 target="_blank" rel="noreferrer noopener">Acsam</a></td>
 			<td><a
 href="https://www.athle.fr/bases/liste.aspx?frmbase=resultats&frmmode=1&frmespace=0&frmcompetition=319176&FrmDepartement=095"
 target="_blank" rel="noreferrer noopener">095</a></td>
 			<td><a
 href="https://www.athle.fr/bases/liste.aspx?frmbase=resultats&frmmode=1&frmespace=0&frmcompetition=319176&FrmLigue=I-F"
 target="_blank" rel="noreferrer
 noopener">I-F</a></td>
 			<td>BEF/13</td>
 			<td>D5</td>
 		</tr>
 		<tr>
 			<td
 colspan="2"> </td>
 			<td colspan="7">1000m :
 3'21''86</td>
 		</tr>
 		<tr>
 			<td>77</td>
 			<td>31
 pts</td>
 			<td><a
 href="https://www.athle.fr/athletes/2396089/resultats"
 target="_blank" rel="noreferrer noopener">LAURENT
 Apolline</a></td>
 			<td><a
 href="https://www.athle.fr/bases/liste.aspx?frmbase=resultats&frmmode=1&pardisplay=1&frmespace=0&frmcompetition=319176&frmclub=095044"
 target="_blank" rel="noreferrer noopener">Acsam</a></td>
 			<td><a
 href="https://www.athle.fr/bases/liste.aspx?frmbase=resultats&frmmode=1&frmespace=0&frmcompetition=319176&FrmDepartement=095"
 target="_blank" rel="noreferrer noopener">095</a></td>
 			<td><a
 href="https://www.athle.fr/bases/liste.aspx?frmbase=resultats&frmmode=1&frmespace=0&frmcompetition=319176&FrmLigue=I-F"
 target="_blank" rel="noreferrer
 noopener">I-F</a></td>
 			<td>BEF/14</td>
 			<td>D6</td>
 		</tr>
 		<tr>
 			<td
 colspan="2"> </td>
 			<td colspan="7">Pds (2) : 3m99 - 1000m :
 4'21''48 - Longueur : 2m58(NC)</td>
 		</tr>
 		<tr>
 			<td
 colspan="9">
 			<p>Triathlon U14-U16 / MIF | F | Resultats |
 18:03 >> <a
 href="https://www.athle.fr/bases/liste.aspx?frmbase=resultats&frmmode=1&frmespace=0&frmcompetition=319176&FrmDetail=1"
 target="_blank" rel="noreferrer
 noopener">Details</a></p>
 			</td>
 		</tr>
 		<tr>
 			<th>
 			<p>Place</p>
 			</th>
 			<th>
 			<p>Resultat</p>
 			</th>
 			<th>
 			<p>Nom</p>
 			</th>
 			<th>
 			<p>Club</p>
 			</th>
 			<th>
 			<p>Dept</p>
 			</th>
 			<th>
 			<p>Ligue</p>
 			</th>
 			<th>
 			<p>Infos</p>
 			</th>
 			<th>
 			<p>Niveau</p>
 			</th>
 		</tr>
 		<tr>
 			<td>6</td>
 			<td>101
 pts</td>
 			<td><a
 href="https://www.athle.fr/athletes/2802296/resultats"
 target="_blank" rel="noreferrer noopener">LAGET
 Julie</a></td>
 			<td><a
 href="https://www.athle.fr/bases/liste.aspx?frmbase=resultats&frmmode=1&pardisplay=1&frmespace=0&frmcompetition=319176&frmclub=095044"
 target="_blank" rel="noreferrer noopener">Acsam</a></td>
 			<td><a
 href="https://www.athle.fr/bases/liste.aspx?frmbase=resultats&frmmode=1&frmespace=0&frmcompetition=319176&FrmDepartement=095"
 target="_blank" rel="noreferrer noopener">095</a></td>
 			<td><a
 href="https://www.athle.fr/bases/liste.aspx?frmbase=resultats&frmmode=1&frmespace=0&frmcompetition=319176&FrmLigue=I-F"
 target="_blank" rel="noreferrer
 noopener">I-F</a></td>
 			<td>MIF/11</td>
 			<td>R1</td>
 		</tr>
 		<tr>
 			<td
 colspan="2"> </td>
 			<td colspan="7">1000m : 3'18''88 - Hauteur :
 1m42 - Triple :
 9m28(+0.0)</td>
 		</tr>
 		<tr>
 			<td>11</td>
 			<td>99
 pts</td>
 			<td><a
 href="https://www.athle.fr/athletes/2838851/resultats"
 target="_blank" rel="noreferrer noopener">DIAGANA Binta
 (MTN)</a></td>
 			<td><a
 href="https://www.athle.fr/bases/liste.aspx?frmbase=resultats&frmmode=1&pardisplay=1&frmespace=0&frmcompetition=319176&frmclub=095044"
 target="_blank" rel="noreferrer noopener">Acsam</a></td>
 			<td><a
 href="https://www.athle.fr/bases/liste.aspx?frmbase=resultats&frmmode=1&frmespace=0&frmcompetition=319176&FrmDepartement=095"
 target="_blank" rel="noreferrer noopener">095</a></td>
 			<td><a
 href="https://www.athle.fr/bases/liste.aspx?frmbase=resultats&frmmode=1&frmespace=0&frmcompetition=319176&FrmLigue=I-F"
 target="_blank" rel="noreferrer
 noopener">I-F</a></td>
 			<td>MIF/11</td>
 			<td>R2</td>
 		</tr>
 		<tr>
 			<td
 colspan="2"> </td>
 			<td colspan="7">Longueur : 4m13(-0.5) - 80m :
 11''13(+0.0) - Pds (3) :
 8m66</td>
 		</tr>
 		<tr>
 			<td>13</td>
 			<td>97 pts</td>
 			<td><a
 href="https://www.athle.fr/athletes/2801894/resultats"
 target="_blank" rel="noreferrer noopener">LEBAZ
 Lou</a></td>
 			<td><a
 href="https://www.athle.fr/bases/liste.aspx?frmbase=resultats&frmmode=1&pardisplay=1&frmespace=0&frmcompetition=319176&frmclub=095044"
 target="_blank" rel="noreferrer noopener">Acsam</a></td>
 			<td><a
 href="https://www.athle.fr/bases/liste.aspx?frmbase=resultats&frmmode=1&frmespace=0&frmcompetition=319176&FrmDepartement=095"
 target="_blank" rel="noreferrer noopener">095</a></td>
 			<td><a
 href="https://www.athle.fr/bases/liste.aspx?frmbase=resultats&frmmode=1&frmespace=0&frmcompetition=319176&FrmLigue=I-F"
 target="_blank" rel="noreferrer
 noopener">I-F</a></td>
 			<td>MIF/12</td>
 			<td>R2</td>
 		</tr>
 		<tr>
 			<td
 colspan="2"> </td>
 			<td colspan="7">Longueur : 4m30(-1.6) - 1000m
 : 3'15''58 - 120m :
 17''25(+0.8)</td>
 		</tr>
 		<tr>
 			<td>17</td>
 			<td>95
 pts</td>
 			<td><a
 href="https://www.athle.fr/athletes/2395693/resultats"
 target="_blank" rel="noreferrer noopener">MURCIER
 Roxane</a></td>
 			<td><a
 href="https://www.athle.fr/bases/liste.aspx?frmbase=resultats&frmmode=1&pardisplay=1&frmespace=0&frmcompetition=319176&frmclub=095044"
 target="_blank" rel="noreferrer noopener">Acsam</a></td>
 			<td><a
 href="https://www.athle.fr/bases/liste.aspx?frmbase=resultats&frmmode=1&frmespace=0&frmcompetition=319176&FrmDepartement=095"
 target="_blank" rel="noreferrer noopener">095</a></td>
 			<td><a
 href="https://www.athle.fr/bases/liste.aspx?frmbase=resultats&frmmode=1&frmespace=0&frmcompetition=319176&FrmLigue=I-F"
 target="_blank" rel="noreferrer
 noopener">I-F</a></td>
 			<td>MIF/11</td>
 			<td>R2</td>
 		</tr>
 		<tr>
 			<td
 colspan="2"> </td>
 			<td colspan="7">Longueur : 4m40(-1.1) - 80m :
 11''57(+0.0) - Hauteur :
 1m34</td>
 		</tr>
 		<tr>
 			<td>25</td>
 			<td>81 pts</td>
 			<td><a
 href="https://www.athle.fr/athletes/2377128/resultats"
 target="_blank" rel="noreferrer noopener">GHILARDI
 Pauline</a></td>
 			<td><a
 href="https://www.athle.fr/bases/liste.aspx?frmbase=resultats&frmmode=1&pardisplay=1&frmespace=0&frmcompetition=319176&frmclub=095044"
 target="_blank" rel="noreferrer noopener">Acsam</a></td>
 			<td><a
 href="https://www.athle.fr/bases/liste.aspx?frmbase=resultats&frmmode=1&frmespace=0&frmcompetition=319176&FrmDepartement=095"
 target="_blank" rel="noreferrer noopener">095</a></td>
 			<td><a
 href="https://www.athle.fr/bases/liste.aspx?frmbase=resultats&frmmode=1&frmespace=0&frmcompetition=319176&FrmLigue=I-F"
 target="_blank" rel="noreferrer
 noopener">I-F</a></td>
 			<td>MIF/12</td>
 			<td>R4</td>
 		</tr>
 		<tr>
 			<td
 colspan="2"> </td>
 			<td colspan="7">Longueur : 3m86(-1.4) - 1000m
 : 3'21''41 - 120m :
 17''47(+0.8)</td>
 		</tr>
 		<tr>
 			<td>32</td>
 			<td>74
 pts</td>
 			<td><a
 href="https://www.athle.fr/athletes/2584336/resultats"
 target="_blank" rel="noreferrer noopener">LOUIS
 Clementine</a></td>
 			<td><a
 href="https://www.athle.fr/bases/liste.aspx?frmbase=resultats&frmmode=1&pardisplay=1&frmespace=0&frmcompetition=319176&frmclub=095044"
 target="_blank" rel="noreferrer noopener">Acsam</a></td>
 			<td><a
 href="https://www.athle.fr/bases/liste.aspx?frmbase=resultats&frmmode=1&frmespace=0&frmcompetition=319176&FrmDepartement=095"
 target="_blank" rel="noreferrer noopener">095</a></td>
 			<td><a
 href="https://www.athle.fr/bases/liste.aspx?frmbase=resultats&frmmode=1&frmespace=0&frmcompetition=319176&FrmLigue=I-F"
 target="_blank" rel="noreferrer
 noopener">I-F</a></td>
 			<td>MIF/12</td>
 			<td>R5</td>
 		</tr>
 		<tr>
 			<td
 colspan="2"> </td>
 			<td colspan="7">120m : 17''46(+0.0) - Hauteur
 : 1m42 - Pds (3) : 6m02</td>
 		</tr>
 		<tr>
 			<td>34</td>
 			<td>70
 pts</td>
 			<td><a
 href="https://www.athle.fr/athletes/2577246/resultats"
 target="_blank" rel="noreferrer noopener">ALOUACHE
 Mariem</a></td>
 			<td><a
 href="https://www.athle.fr/bases/liste.aspx?frmbase=resultats&frmmode=1&pardisplay=1&frmespace=0&frmcompetition=319176&frmclub=095044"
 target="_blank" rel="noreferrer noopener">Acsam</a></td>
 			<td><a
 href="https://www.athle.fr/bases/liste.aspx?frmbase=resultats&frmmode=1&frmespace=0&frmcompetition=319176&FrmDepartement=095"
 target="_blank" rel="noreferrer noopener">095</a></td>
 			<td><a
 href="https://www.athle.fr/bases/liste.aspx?frmbase=resultats&frmmode=1&frmespace=0&frmcompetition=319176&FrmLigue=I-F"
 target="_blank" rel="noreferrer
 noopener">I-F</a></td>
 			<td>MIF/12</td>
 			<td>R5</td>
 		</tr>
 		<tr>
 			<td
 colspan="2"> </td>
 			<td colspan="7">80m : 13''29(-0.5) - Javt5 :
 18m63 - Pds (3) : 6m72</td>
 		</tr>
 		<tr>
 			<td>45</td>
 			<td>59
 pts</td>
 			<td><a
 href="https://www.athle.fr/athletes/3105206/resultats"
 target="_blank" rel="noreferrer noopener">DOTTORI
 Typhaine</a></td>
 			<td><a
 href="https://www.athle.fr/bases/liste.aspx?frmbase=resultats&frmmode=1&pardisplay=1&frmespace=0&frmcompetition=319176&frmclub=095044"
 target="_blank" rel="noreferrer noopener">Acsam</a></td>
 			<td><a
 href="https://www.athle.fr/bases/liste.aspx?frmbase=resultats&frmmode=1&frmespace=0&frmcompetition=319176&FrmDepartement=095"
 target="_blank" rel="noreferrer noopener">095</a></td>
 			<td><a
 href="https://www.athle.fr/bases/liste.aspx?frmbase=resultats&frmmode=1&frmespace=0&frmcompetition=319176&FrmLigue=I-F"
 target="_blank" rel="noreferrer
 noopener">I-F</a></td>
 			<td>MIF/11</td>
 			<td>D1</td>
 		</tr>
 		<tr>
 			<td
 colspan="2"> </td>
 			<td colspan="7">120m : 18''79(+0.8) - Javt5 :
 14m00 - Hauteur : 1m30</td>
 		</tr>
 		<tr>
 			<td>49</td>
 			<td>54
 pts</td>
 			<td><a
 href="https://www.athle.fr/athletes/3287386/resultats"
 target="_blank" rel="noreferrer noopener">AVALYAN
 Eva</a></td>
 			<td><a
 href="https://www.athle.fr/bases/liste.aspx?frmbase=resultats&frmmode=1&pardisplay=1&frmespace=0&frmcompetition=319176&frmclub=095044"
 target="_blank" rel="noreferrer noopener">Acsam</a></td>
 			<td><a
 href="https://www.athle.fr/bases/liste.aspx?frmbase=resultats&frmmode=1&frmespace=0&frmcompetition=319176&FrmDepartement=095"
 target="_blank" rel="noreferrer noopener">095</a></td>
 			<td><a
 href="https://www.athle.fr/bases/liste.aspx?frmbase=resultats&frmmode=1&frmespace=0&frmcompetition=319176&FrmLigue=I-F"
 target="_blank" rel="noreferrer
 noopener">I-F</a></td>
 			<td>MIF/11</td>
 			<td>D2</td>
 		</tr>
 		<tr>
 			<td
 colspan="2"> </td>
 			<td colspan="7">Longueur : 3m67(+0.0) - Disq08
 : 17m44 - 120m :
 18''63(-0.2)</td>
 		</tr>
 		<tr>
 			<td>60</td>
 			<td>44
 pts</td>
 			<td><a
 href="https://www.athle.fr/athletes/3287157/resultats"
 target="_blank" rel="noreferrer noopener">DAOUDI
 Jade</a></td>
 			<td><a
 href="https://www.athle.fr/bases/liste.aspx?frmbase=resultats&frmmode=1&pardisplay=1&frmespace=0&frmcompetition=319176&frmclub=095044"
 target="_blank" rel="noreferrer noopener">Acsam</a></td>
 			<td><a
 href="https://www.athle.fr/bases/liste.aspx?frmbase=resultats&frmmode=1&frmespace=0&frmcompetition=319176&FrmDepartement=095"
 target="_blank" rel="noreferrer noopener">095</a></td>
 			<td><a
 href="https://www.athle.fr/bases/liste.aspx?frmbase=resultats&frmmode=1&frmespace=0&frmcompetition=319176&FrmLigue=I-F"
 target="_blank" rel="noreferrer
 noopener">I-F</a></td>
 			<td>MIF/11</td>
 			<td>D4</td>
 		</tr>
 		<tr>
 			<td
 colspan="2"> </td>
 			<td colspan="7">Longueur : 3m95(-1.4) - 120m :
 17''88(+0.5)</td>
 		</tr>
 		<tr>
 			<td>86</td>
 			<td>23
 pts</td>
 			<td><a
 href="https://www.athle.fr/athletes/2372814/resultats"
 target="_blank" rel="noreferrer noopener">BAAISSA
 Lilia-Zahra</a></td>
 			<td><a
 href="https://www.athle.fr/bases/liste.aspx?frmbase=resultats&frmmode=1&pardisplay=1&frmespace=0&frmcompetition=319176&frmclub=095004"
 target="_blank" rel="noreferrer noopener">Acs
 Cormeilles-En-Parisis</a></td>
 			<td><a
 href="https://www.athle.fr/bases/liste.aspx?frmbase=resultats&frmmode=1&frmespace=0&frmcompetition=319176&FrmDepartement=095"
 target="_blank" rel="noreferrer noopener">095</a></td>
 			<td><a
 href="https://www.athle.fr/bases/liste.aspx?frmbase=resultats&frmmode=1&frmespace=0&frmcompetition=319176&FrmLigue=I-F"
 target="_blank" rel="noreferrer
 noopener">I-F</a></td>
 			<td>MIF/12</td>
 			<td>D8</td>
 		</tr>
 		<tr>
 			<td
 colspan="2"> </td>
 			<td colspan="7">Longueur : 3m19(-2.8) - 120m :
 18''96(-0.2)</td>
 		</tr>
 		<tr>
 			<td>87</td>
 			<td>19
 pts</td>
 			<td><a
 href="https://www.athle.fr/athletes/3510008/resultats"
 target="_blank" rel="noreferrer noopener">TRAVET-RICARD
 Clara</a></td>
 			<td><a
 href="https://www.athle.fr/bases/liste.aspx?frmbase=resultats&frmmode=1&pardisplay=1&frmespace=0&frmcompetition=319176&frmclub=095044"
 target="_blank" rel="noreferrer noopener">Acsam</a></td>
 			<td><a
 href="https://www.athle.fr/bases/liste.aspx?frmbase=resultats&frmmode=1&frmespace=0&frmcompetition=319176&FrmDepartement=095"
 target="_blank" rel="noreferrer noopener">095</a></td>
 			<td><a
 href="https://www.athle.fr/bases/liste.aspx?frmbase=resultats&frmmode=1&frmespace=0&frmcompetition=319176&FrmLigue=I-F"
 target="_blank" rel="noreferrer
 noopener">I-F</a></td>
 			<td>MIF/11</td>
 			<td>D8</td>
 		</tr>
 		<tr>
 			<td
 colspan="2"> </td>
 			<td colspan="7">80m : DNS(-1.5) - Pds (3) :
 6m21</td>
 		</tr>
 		<tr>
 			<td colspan="9">
 			<p>Triathlon U14 BEM
  Resultats </p>
 			</td>
 		</tr>
 		<tr>
 			<th>
 			<p>Place</p>
 			</th>
 			<th>
 			<p>Resultat</p>
 			</th>
 			<th>
 			<p>Nom</p>
 			</th>
 			<th>
 			<p>Club</p>
 			</th>
 			<th>
 			<p>Dept</p>
 			</th>
 			<th>
 			<p>Ligue</p>
 			</th>
 			<th>
 			<p>Infos</p>
 			</th>
 			<th>
 			<p>Niveau</p>
 			</th>
 		</tr>
 		<tr>
 			<td>3</td>
 			<td>102
 pts</td>
 			<td><a
 href="https://www.athle.fr/athletes/2546307/resultats"
 target="_blank" rel="noreferrer noopener">DIATTA
 Irvin</a></td>
 			<td><a
 href="https://www.athle.fr/bases/liste.aspx?frmbase=resultats&frmmode=1&pardisplay=1&frmespace=0&frmcompetition=319176&frmclub=095044"
 target="_blank" rel="noreferrer noopener">Acsam</a></td>
 			<td><a
 href="https://www.athle.fr/bases/liste.aspx?frmbase=resultats&frmmode=1&frmespace=0&frmcompetition=319176&FrmDepartement=095"
 target="_blank" rel="noreferrer noopener">095</a></td>
 			<td><a
 href="https://www.athle.fr/bases/liste.aspx?frmbase=resultats&frmmode=1&frmespace=0&frmcompetition=319176&FrmLigue=I-F"
 target="_blank" rel="noreferrer
 noopener">I-F</a></td>
 			<td>BEM/13</td>
 			<td>R3</td>
 		</tr>
 		<tr>
 			<td
 colspan="2"> </td>
 			<td colspan="7">Longueur : 4m27(NC) - 50H (65)
 : 9''05(NC) - Pds (3) :
 8m18</td>
 		</tr>
 		<tr>
 			<td>20</td>
 			<td>65 pts</td>
 			<td><a
 href="https://www.athle.fr/athletes/2749944/resultats"
 target="_blank" rel="noreferrer noopener">LEBALEUR
 David</a></td>
 			<td><a
 href="https://www.athle.fr/bases/liste.aspx?frmbase=resultats&frmmode=1&pardisplay=1&frmespace=0&frmcompetition=319176&frmclub=095044"
 target="_blank" rel="noreferrer noopener">Acsam</a></td>
 			<td><a
 href="https://www.athle.fr/bases/liste.aspx?frmbase=resultats&frmmode=1&frmespace=0&frmcompetition=319176&FrmDepartement=095"
 target="_blank" rel="noreferrer noopener">095</a></td>
 			<td><a
 href="https://www.athle.fr/bases/liste.aspx?frmbase=resultats&frmmode=1&frmespace=0&frmcompetition=319176&FrmLigue=I-F"
 target="_blank" rel="noreferrer
 noopener">I-F</a></td>
 			<td>BEM/13</td>
 			<td>D1</td>
 		</tr>
 		<tr>
 			<td
 colspan="2"> </td>
 			<td colspan="7">Longueur : 3m76(NC) - 50m :
 8''32(NC) - Pds (3) :
 5m88</td>
 		</tr>
 		<tr>
 			<td>41</td>
 			<td>42 pts</td>
 			<td><a
 href="https://www.athle.fr/athletes/3522642/resultats"
 target="_blank" rel="noreferrer noopener">AYAD-PASQUIER
 Arthur</a></td>
 			<td><a
 href="https://www.athle.fr/bases/liste.aspx?frmbase=resultats&frmmode=1&pardisplay=1&frmespace=0&frmcompetition=319176&frmclub=095044"
 target="_blank" rel="noreferrer noopener">Acsam</a></td>
 			<td><a
 href="https://www.athle.fr/bases/liste.aspx?frmbase=resultats&frmmode=1&frmespace=0&frmcompetition=319176&FrmDepartement=095"
 target="_blank" rel="noreferrer noopener">095</a></td>
 			<td><a
 href="https://www.athle.fr/bases/liste.aspx?frmbase=resultats&frmmode=1&frmespace=0&frmcompetition=319176&FrmLigue=I-F"
 target="_blank" rel="noreferrer
 noopener">I-F</a></td>
 			<td>BEM/14</td>
 			<td>D4</td>
 		</tr>
 		<tr>
 			<td
 colspan="2"> </td>
 			<td colspan="7">Longueur : 3m40(NC) - 50H (65)
 : 10''65(NC) - Disq10 :
 11m06</td>
 		</tr>
 		<tr>
 			<td>47</td>
 			<td>36 pts</td>
 			<td><a
 href="https://www.athle.fr/athletes/2808174/resultats"
 target="_blank" rel="noreferrer noopener">LEPRINCE
 Adam</a></td>
 			<td><a
 href="https://www.athle.fr/bases/liste.aspx?frmbase=resultats&frmmode=1&pardisplay=1&frmespace=0&frmcompetition=319176&frmclub=095044"
 target="_blank" rel="noreferrer noopener">Acsam</a></td>
 			<td><a
 href="https://www.athle.fr/bases/liste.aspx?frmbase=resultats&frmmode=1&frmespace=0&frmcompetition=319176&FrmDepartement=095"
 target="_blank" rel="noreferrer noopener">095</a></td>
 			<td><a
 href="https://www.athle.fr/bases/liste.aspx?frmbase=resultats&frmmode=1&frmespace=0&frmcompetition=319176&FrmLigue=I-F"
 target="_blank" rel="noreferrer
 noopener">I-F</a></td>
 			<td>BEM/14</td>
 			<td>D5</td>
 		</tr>
 		<tr>
 			<td
 colspan="2"> </td>
 			<td colspan="7">Longueur : 2m84(NC) - 50m :
 9''01(NC) - Disq10 : 11m68</td>
 		</tr>
 		<tr>
 			<td
 colspan="9">
 			<p>Triathlon U16 / MIM
  Resultats </p>
 			</td>
 		</tr>
 		<tr>
 			<th>
 			<p>Place</p>
 			</th>
 			<th>
 			<p>Resultat</p>
 			</th>
 			<th>
 			<p>Nom</p>
 			</th>
 			<th>
 			<p>Club</p>
 			</th>
 			<th>
 			<p>Dept</p>
 			</th>
 			<th>
 			<p>Ligue</p>
 			</th>
 			<th>
 			<p>Infos</p>
 			</th>
 			<th>
 			<p>Niveau</p>
 			</th>
 		</tr>
 		<tr>
 			<td>3</td>
 			<td>107
 pts</td>
 			<td><a
 href="https://www.athle.fr/athletes/2361201/resultats"
 target="_blank" rel="noreferrer noopener">ZERROUKI
 Iyes</a></td>
 			<td><a
 href="https://www.athle.fr/bases/liste.aspx?frmbase=resultats&frmmode=1&pardisplay=1&frmespace=0&frmcompetition=319176&frmclub=095044"
 target="_blank" rel="noreferrer noopener">Acsam</a></td>
 			<td><a
 href="https://www.athle.fr/bases/liste.aspx?frmbase=resultats&frmmode=1&frmespace=0&frmcompetition=319176&FrmDepartement=095"
 target="_blank" rel="noreferrer noopener">095</a></td>
 			<td><a
 href="https://www.athle.fr/bases/liste.aspx?frmbase=resultats&frmmode=1&frmespace=0&frmcompetition=319176&FrmLigue=I-F"
 target="_blank" rel="noreferrer
 noopener">I-F</a></td>
 			<td>MIM/11</td>
 			<td>IR4</td>
 		</tr>
 		<tr>
 			<td
 colspan="2"> </td>
 			<td colspan="7">Hauteur : 1m73 - Pds (4) :
 10m93 - 80m :
 10''35(-1.4)</td>
 		</tr>
 	</tbody>
 </table>
 
 <table>
 	<tbody>
 		<tr>
 			<td>6 
      </td>
 			<td>95 pts </td>
 			<td><a
 href="https://www.athle.fr/athletes/2542568/resultats"
 target="_blank" rel="noreferrer noopener">FAYEL Hugo</a>       
                  </td>
 			<td><a
 href="https://www.athle.fr/bases/liste.aspx?frmbase=resultats&frmmode=1&pardisplay=1&frmespace=0&frmcompetition=319176&frmclub=095044"
 target="_blank" rel="noreferrer noopener">Acsam</a>           
                  </td>
 			<td><a
 href="https://www.athle.fr/bases/liste.aspx?frmbase=resultats&frmmode=1&frmespace=0&frmcompetition=319176&FrmDepartement=095"
 target="_blank" rel="noreferrer noopener">095</a>  </td>
 			<td><a
 href="https://www.athle.fr/bases/liste.aspx?frmbase=resultats&frmmode=1&frmespace=0&frmcompetition=319176&FrmLigue=I-F"
 target="_blank" rel="noreferrer noopener">I-F</a> 
   </td>
 			<td>MIM/11</td>
 			<td>R2   
   </td>
 			<td> </td>
 		</tr>
 		<tr>
 			<td
 colspan="2"> </td>
 			<td colspan="8">Hauteur : 1m46 - 1000m :
 2'53''56 - Javt6 : 29m07</td>
 		</tr>
 		<tr>
 			<td>23</td>
 			<td>64
 pts</td>
 			<td><a
 href="https://www.athle.fr/athletes/2801984/resultats"
 target="_blank" rel="noreferrer noopener">LEMETRE
 Marin</a></td>
 			<td><a
 href="https://www.athle.fr/bases/liste.aspx?frmbase=resultats&frmmode=1&pardisplay=1&frmespace=0&frmcompetition=319176&frmclub=095044"
 target="_blank" rel="noreferrer noopener">Acsam</a></td>
 			<td><a
 href="https://www.athle.fr/bases/liste.aspx?frmbase=resultats&frmmode=1&frmespace=0&frmcompetition=319176&FrmDepartement=095"
 target="_blank" rel="noreferrer noopener">095</a></td>
 			<td><a
 href="https://www.athle.fr/bases/liste.aspx?frmbase=resultats&frmmode=1&frmespace=0&frmcompetition=319176&FrmLigue=I-F"
 target="_blank" rel="noreferrer
 noopener">I-F</a></td>
 			<td>MIM/12</td>
 			<td>D1</td>
 			<td> </td>
 		</tr>
 		<tr>
 			<td
 colspan="2"> </td>
 			<td colspan="8">1000m : 3'06''84 - Longueur :
 4m09(+0.7) - Javt6 :
 21m81</td>
 		</tr>
 		<tr>
 			<td>50</td>
 			<td>31 pts</td>
 			<td><a
 href="https://www.athle.fr/athletes/2717413/resultats"
 target="_blank" rel="noreferrer noopener">RUFFINONI
 Clement</a></td>
 			<td><a
 href="https://www.athle.fr/bases/liste.aspx?frmbase=resultats&frmmode=1&pardisplay=1&frmespace=0&frmcompetition=319176&frmclub=095044"
 target="_blank" rel="noreferrer noopener">Acsam</a></td>
 			<td><a
 href="https://www.athle.fr/bases/liste.aspx?frmbase=resultats&frmmode=1&frmespace=0&frmcompetition=319176&FrmDepartement=095"
 target="_blank" rel="noreferrer noopener">095</a></td>
 			<td><a
 href="https://www.athle.fr/bases/liste.aspx?frmbase=resultats&frmmode=1&frmespace=0&frmcompetition=319176&FrmLigue=I-F"
 target="_blank" rel="noreferrer
 noopener">I-F</a></td>
 			<td>MIM/12</td>
 			<td>D6</td>
 			<td> </td>
 		</tr>
 		<tr>
 			<td
 colspan="2"> </td>
 			<td colspan="8">Longueur : 3m56(-1.8) - Javt6
 : 17m31 - 80m : 13''09(-0.7)</td>
 		</tr>
 	</tbody>
 </table>
URL;VALUE=URI:https://acsam.sportsregions.fr/evenements/2026/03/29/championnats-95-triathlon-benjamins-es-minimes-a-lisle-adam-2396925
END:VEVENT
END:VCALENDAR
