BEGIN:VCALENDAR
VERSION:2.0
PRODID:-//hacksw/handcal//NONSGML v1.0//EN
BEGIN:VEVENT
SUMMARY:Foulee Aubergenville 5 et 10 kilometres
UID:74ce85fc-1615-42a2-992a-eada81b89b7c
DTSTART:20260328T230000Z
DTEND:20260329T230000Z
LOCATION:Localisation   
CATEGORIES:Sportif
STATUS:
DESCRIPTION:<table id="ctnResultats">
 	<tbody>
 		<tr>
 			<td>PERDIGAO
 Miguel</td>
 			<td>10 Km Route / 10 KM / TCX</td>
 			<td>502. (39ieme
 M3)
  (39'30'')</td>
 			<td> </td>
 			<td> </td>
 			<td> </td>
 			<td>M3M/73</td>
 		</tr>
 		<tr>
 			<td>BONNEAU
 Ismael</td>
 			<td>5 Km Route / 5 km / TCX</td>
 			<td>112. (48
 ieme SH)
 (17'46'')</td>
 			<td> </td>
 			<td> </td>
 			<td> </td>
 			<td>SEM/97</td>
 		</tr>
 		<tr>
 			<td>CORFMAT
 Valentin</td>
 			<td>5 Km Route / 5 km / TCX</td>
 			<td>98.
 (42iemeSH) 17'35''
 (17'29'')</td>
 			<td> </td>
 			<td> </td>
 			<td> </td>
 			<td>SEM/00</td>
 		</tr>
 	</tbody>
 </table>
URL;VALUE=URI:https://acsam.sportsregions.fr/evenements/2026/03/29/foulee-aubergenville-5-et-10-kilometres-2430278
END:VEVENT
END:VCALENDAR
