BEGIN:VCALENDAR
VERSION:2.0
PRODID:-//hacksw/handcal//NONSGML v1.0//EN
BEGIN:VEVENT
SUMMARY:Jean Pierre TISSARD 1h41' 29 au semi-marathon de Villepinte
UID:2711d666-3319-4cd2-81a5-902edfc6630f
DTSTART:20260328T230000Z
DTEND:20260329T230000Z
LOCATION:Localisation   
CATEGORIES:Sportif
STATUS:
DESCRIPTION:<p>Semi a Villepinte,Jean-Pierre TISSARD podium 3ieme M6
 en 1h41 & qualification pour les prochains championnats de France du
 semi.</p>
 
 <p> </p>
URL;VALUE=URI:https://acsam.sportsregions.fr/evenements/2026/03/29/jean-pierre-tissard-1h41-29-au-semi-marathon-de-villepinte-2435103
END:VEVENT
END:VCALENDAR
