BEGIN:VCALENDAR
VERSION:2.0
PRODID:-//hacksw/handcal//NONSGML v1.0//EN
BEGIN:VEVENT
SUMMARY:Semi-marathon de Dunkerque Etienne Libessart nouveau record !
UID:44a2e511-2c80-428c-b12f-39d1cbc5edd1
DTSTART:20260328T230000Z
DTEND:20260329T230000Z
LOCATION:Localisation   
CATEGORIES:Sportif
STATUS:
DESCRIPTION:<p>Semi marathon de Dunkerque nouveau record espoir du
 club pour Etienne LIBESSART au semi marathon de Dunkrque en 1h14'29
 et qualification aux championnats de france.</p>
URL;VALUE=URI:https://acsam.sportsregions.fr/evenements/2026/03/29/semi-marathon-de-dunkerque-etienne-libessart-nouveau-record-2435972
END:VEVENT
END:VCALENDAR
