BEGIN:VCALENDAR
VERSION:2.0
PRODID:-//hacksw/handcal//NONSGML v1.0//EN
BEGIN:VEVENT
SUMMARY:Semi-marathon de Rambouillet Florent MARGUERIE
UID:4f96d08d-1011-463e-b842-e3feb212459a
DTSTART:20260328T230000Z
DTEND:20260329T230000Z
LOCATION:Localisation   
CATEGORIES:Sportif
STATUS:
DESCRIPTION:<table
 id="ctnResultats">
 	<tbody>
 		<tr>
 			<td> (1h35'48'')</td>
 			<td>MARGUERIE
 Florent</td>
 			<td><a
 href="https://www.athle.fr/bases/liste.aspx?frmbase=resultats&frmmode=1&pardisplay=1&frmespace=0&frmcompetition=313485&frmclub=095044"
 target="_blank" rel="noreferrer noopener">Acsam</a></td>
 			<td><a
 href="https://www.athle.fr/bases/liste.aspx?frmbase=resultats&frmmode=1&frmespace=0&frmcompetition=313485&FrmDepartement=095"
 target="_blank" rel="noreferrer noopener">095</a></td>
 			<td><a
 href="https://www.athle.fr/bases/liste.aspx?frmbase=resultats&frmmode=1&frmespace=0&frmcompetition=313485&FrmLigue=I-F"
 target="_blank" rel="noreferrer noopener">I-F</a></td>
 			<td><a
 href="https://www.athle.fr/bases/liste.aspx?frmbase=resultats&frmmode=1&frmespace=0&frmcompetition=313485&frmepreuve=1/2%20Marathon%20/%20Semi-marathon%20de%20Rambouillet%20/%20TCX&frmcategorie=M4&frmsexe=M"
 title="Resultats pour la categorie du participant" target="_blank"
 rel="noreferrer noopener">M4M</a>/70</td>
 		</tr>
 	</tbody>
 </table>
URL;VALUE=URI:https://acsam.sportsregions.fr/evenements/2026/03/29/semi-marathon-de-rambouillet-florent-marguerie-2430275
END:VEVENT
END:VCALENDAR
