BEGIN:VCALENDAR
VERSION:2.0
PRODID:-//hacksw/handcal//NONSGML v1.0//EN
BEGIN:VEVENT
SUMMARY:L'ACSAM souhaite un joyeux anniversaire a Claire DUVETTE
UID:6c63fa28-ca92-41fc-b4b0-b6203854ea66
DTSTART:20260404T220000Z
DTEND:20260405T220000Z
LOCATION:Localisation   
CATEGORIES:Sportif
STATUS:
URL;VALUE=URI:https://acsam.sportsregions.fr/evenements/2026/04/05/lacsam-souhaite-un-joyeux-anniversaire-a-claire-duvette-2437411
END:VEVENT
END:VCALENDAR
