BEGIN:VCALENDAR
VERSION:2.0
PRODID:-//hacksw/handcal//NONSGML v1.0//EN
BEGIN:VEVENT
SUMMARY:L'ACSAM souhaite un joyeux anniversaire a Jacky AUGIER
UID:02287f49-8ecd-407c-940e-b653261ef8b3
DTSTART:20260405T220000Z
DTEND:20260406T220000Z
LOCATION:Localisation   
CATEGORIES:Sportif
STATUS:
URL;VALUE=URI:https://acsam.sportsregions.fr/evenements/2026/04/06/lacsam-souhaite-un-joyeux-anniversaire-a-jacky-augier-2437401
END:VEVENT
END:VCALENDAR
