BEGIN:VCALENDAR
VERSION:2.0
PRODID:-//hacksw/handcal//NONSGML v1.0//EN
BEGIN:VEVENT
SUMMARY:L'ACSAM souhaite un joyeux anniversaire a Jade DAOUDI
UID:b79f82b1-28ac-4ff0-a84d-a10ef95bc8b2
DTSTART:20260406T220000Z
DTEND:20260407T220000Z
LOCATION:Localisation   
CATEGORIES:Sportif
STATUS:
URL;VALUE=URI:https://acsam.sportsregions.fr/evenements/2026/04/07/lacsam-souhaite-un-joyeux-anniversaire-a-jade-daoudi-2437539
END:VEVENT
END:VCALENDAR
