BEGIN:VCALENDAR
VERSION:2.0
PRODID:-//hacksw/handcal//NONSGML v1.0//EN
BEGIN:VEVENT
SUMMARY:L'ACSAM souhaite un joyeux anniversaire a Pauline GHILARDI
UID:cc69bde1-2f00-46fd-8a1f-5063d3082c66
DTSTART:20260409T220000Z
DTEND:20260410T220000Z
LOCATION:Localisation   
CATEGORIES:Sportif
STATUS:
URL;VALUE=URI:https://acsam.sportsregions.fr/evenements/2026/04/10/lacsam-souhaite-un-joyeux-anniversaire-a-pauline-ghilardi-2437537
END:VEVENT
END:VCALENDAR
