BEGIN:VCALENDAR
VERSION:2.0
PRODID:-//hacksw/handcal//NONSGML v1.0//EN
BEGIN:VEVENT
SUMMARY:L'ACSAM souhaite un joyeux anniversaire a Eden BLESSON
UID:d29ffccd-d26d-4ea9-9dc3-cd81c6e518d0
DTSTART:20260410T220000Z
DTEND:20260411T220000Z
LOCATION:Localisation   
CATEGORIES:Sportif
STATUS:
URL;VALUE=URI:https://acsam.sportsregions.fr/evenements/2026/04/11/lacsam-souhaite-un-joyeux-anniversaire-a-eden-blesson-2437414
END:VEVENT
END:VCALENDAR
