BEGIN:VCALENDAR
VERSION:2.0
PRODID:-//hacksw/handcal//NONSGML v1.0//EN
BEGIN:VEVENT
SUMMARY:Resultats championnats epreuves combinees Benjamins & minimes a Beaumont sur Oise
UID:9ecc6c58-9e06-404a-8f44-03df35ea57b4
DTSTART:20260410T220000Z
DTEND:20260412T220000Z
LOCATION:Localisation   
CATEGORIES:Sportif
STATUS:
DESCRIPTION:<p>Championnats d’Epreuves Combinees benjamins et
 minimes avenue du president Wilson Beaumont / Oise
 (95260)</p>
 
 <p><strong>Samedi 11 avril et dimanche 12 avril 2026
 </strong>pour les minimes et les benjamins <strong>dimanche 12 avril
 2026 </strong></p>
 
 <p><strong>Record du Val d'Oise benjamine sur
 1000 metres pour Alicia PERDIGAO 3'10''
 64 </strong></p>
 
 <p><strong>Lou LEBAZ record club du 1000 metres
 toutes categories en 3'06''81</strong></p>
 
 <p><strong>Iyes ZERROUKI
 Vice champion du Val d'Oise minime  octathlon 8 epreuves  et record
 du club  avec 3531 points, tres belle 4ieme place pour Lena LOUIBA
 BELLILI benjamine avec le record club du javelot et Irvin DIATTA
 5ieme avec le record club au 50 haies, hauteur et total de point en
 1361. nous aurons surement 3 qualifications aux championnats LIFA, 
 Iyes, Irvin et Lena attente confirmation. </strong></p>
 
 <table
 id="ctnResultats">
 	<tbody>
 		<tr>
 			<td>2ieme</td>
 			<td>3 531
 pts</td>
 			<td><a
 href="https://www.athle.fr/athletes/2361201/resultats"
 target="_blank" rel="noreferrer noopener">ZERROUKI
 Iyes</a></td>
 			<td><a
 href="https://www.athle.fr/bases/liste.aspx?frmbase=resultats&frmmode=1&pardisplay=1&frmespace=0&frmcompetition=319177&frmclub=095044"
 target="_blank" rel="noreferrer noopener">Acsam</a></td>
 			<td><a
 href="https://www.athle.fr/bases/liste.aspx?frmbase=resultats&frmmode=1&frmespace=0&frmcompetition=319177&FrmDepartement=095"
 target="_blank" rel="noreferrer noopener">095</a></td>
 			<td><a
 href="https://www.athle.fr/bases/liste.aspx?frmbase=resultats&frmmode=1&frmespace=0&frmcompetition=319177&FrmLigue=I-F"
 target="_blank" rel="noreferrer
 noopener">I-F</a></td>
 			<td>MIM/11</td>
 			<td> </td>
 			<td> </td>
 		</tr>
 		<tr>
 			<td
 colspan="2"> </td>
 			<td colspan="8">15''40(+0.8) - 10m38 - 2m20 -
 25m55 - 12''48(+0.0) - 1m71 - 22m98 -
 3'06''63</td>
 		</tr>
 		<tr>
 			<td>15ieme</td>
 			<td>1 311
 pts</td>
 			<td><a
 href="https://www.athle.fr/athletes/2985541/resultats"
 target="_blank" rel="noreferrer noopener">FAURE
 Raphael</a></td>
 			<td><a
 href="https://www.athle.fr/bases/liste.aspx?frmbase=resultats&frmmode=1&pardisplay=1&frmespace=0&frmcompetition=319177&frmclub=095044"
 target="_blank" rel="noreferrer noopener">Acsam</a></td>
 			<td><a
 href="https://www.athle.fr/bases/liste.aspx?frmbase=resultats&frmmode=1&frmespace=0&frmcompetition=319177&FrmDepartement=095"
 target="_blank" rel="noreferrer noopener">095</a></td>
 			<td><a
 href="https://www.athle.fr/bases/liste.aspx?frmbase=resultats&frmmode=1&frmespace=0&frmcompetition=319177&FrmLigue=I-F"
 target="_blank" rel="noreferrer
 noopener">I-F</a></td>
 			<td>MIM/12</td>
 			<td> </td>
 			<td> </td>
 		</tr>
 		<tr>
 			<td
 colspan="2"> </td>
 			<td colspan="8">22''53(+0.0) - 5m48 - 1m40 -
 16m34 - 15''85(NC) - 1m14 - 13m67 -
 3'23''64</td>
 		</tr>
 	</tbody>
 </table>
 
 <p> </p>
 
 <table>
 	<tbody>
 		<tr>
 			<td>5ieme</td>
 			<td>1
 361 pts</td>
 			<td><a
 href="https://www.athle.fr/athletes/2546307/resultats"
 target="_blank" rel="noreferrer noopener">DIATTA
 Irvin</a></td>
 			<td><a
 href="https://www.athle.fr/bases/liste.aspx?frmbase=resultats&frmmode=1&pardisplay=1&frmespace=0&frmcompetition=319177&frmclub=095044"
 target="_blank" rel="noreferrer noopener">Acsam</a></td>
 			<td><a
 href="https://www.athle.fr/bases/liste.aspx?frmbase=resultats&frmmode=1&frmespace=0&frmcompetition=319177&FrmDepartement=095"
 target="_blank" rel="noreferrer noopener">095</a></td>
 			<td><a
 href="https://www.athle.fr/bases/liste.aspx?frmbase=resultats&frmmode=1&frmespace=0&frmcompetition=319177&FrmLigue=I-F"
 target="_blank" rel="noreferrer
 noopener">I-F</a></td>
 			<td>BEM/13</td>
 			<td> </td>
 			<td> </td>
 		</tr>
 		<tr>
 			<td
 colspan="2"> </td>
 			<td colspan="8">haies 8''84(NC) - disq 13m89 -
 hauteur 1m50 - 1000 m 
 3'36''53</td>
 		</tr>
 	</tbody>
 </table>
 
 <table>
 	<tbody>
 		<tr>
 			<td>9ieme</td>
 			<td>2
 894 pts</td>
 			<td><a
 href="https://www.athle.fr/athletes/2801894/resultats"
 target="_blank" rel="noreferrer noopener">LEBAZ
 Lou</a></td>
 			<td><a
 href="https://www.athle.fr/bases/liste.aspx?frmbase=resultats&frmmode=1&pardisplay=1&frmespace=0&frmcompetition=319177&frmclub=095044"
 target="_blank" rel="noreferrer noopener">Acsam</a></td>
 			<td><a
 href="https://www.athle.fr/bases/liste.aspx?frmbase=resultats&frmmode=1&frmespace=0&frmcompetition=319177&FrmDepartement=095"
 target="_blank" rel="noreferrer noopener">095</a></td>
 			<td><a
 href="https://www.athle.fr/bases/liste.aspx?frmbase=resultats&frmmode=1&frmespace=0&frmcompetition=319177&FrmLigue=I-F"
 target="_blank" rel="noreferrer
 noopener">I-F</a></td>
 			<td>MIF/12</td>
 			<td> </td>
 			<td> </td>
 		</tr>
 		<tr>
 			<td
 colspan="2"> </td>
 			<td colspan="8">16''91(+1.6) - 1m32 - 6m24 -
 14''39(+0.0) - 4m21(+1.4) - 15m85 -
 3'06''81</td>
 		</tr>
 		<tr>
 			<td>12ieme</td>
 			<td>2 728
 pts</td>
 			<td><a
 href="https://www.athle.fr/athletes/2802296/resultats"
 target="_blank" rel="noreferrer noopener">LAGET
 Julie</a></td>
 			<td><a
 href="https://www.athle.fr/bases/liste.aspx?frmbase=resultats&frmmode=1&pardisplay=1&frmespace=0&frmcompetition=319177&frmclub=095044"
 target="_blank" rel="noreferrer noopener">Acsam</a></td>
 			<td><a
 href="https://www.athle.fr/bases/liste.aspx?frmbase=resultats&frmmode=1&frmespace=0&frmcompetition=319177&FrmDepartement=095"
 target="_blank" rel="noreferrer noopener">095</a></td>
 			<td><a
 href="https://www.athle.fr/bases/liste.aspx?frmbase=resultats&frmmode=1&frmespace=0&frmcompetition=319177&FrmLigue=I-F"
 target="_blank" rel="noreferrer
 noopener">I-F</a></td>
 			<td>MIF/11</td>
 			<td> </td>
 			<td> </td>
 		</tr>
 		<tr>
 			<td
 colspan="2"> </td>
 			<td colspan="8">16''61(+0.1) - 1m41 - 5m45 -
 14''78(+0.0) - 3m91(+1.8) - 15m74 -
 3'17''70</td>
 		</tr>
 		<tr>
 			<td>13ieme</td>
 			<td>2 712
 pts</td>
 			<td><a
 href="https://www.athle.fr/athletes/2377128/resultats"
 target="_blank" rel="noreferrer noopener">GHILARDI
 Pauline</a></td>
 			<td><a
 href="https://www.athle.fr/bases/liste.aspx?frmbase=resultats&frmmode=1&pardisplay=1&frmespace=0&frmcompetition=319177&frmclub=095044"
 target="_blank" rel="noreferrer noopener">Acsam</a></td>
 			<td><a
 href="https://www.athle.fr/bases/liste.aspx?frmbase=resultats&frmmode=1&frmespace=0&frmcompetition=319177&FrmDepartement=095"
 target="_blank" rel="noreferrer noopener">095</a></td>
 			<td><a
 href="https://www.athle.fr/bases/liste.aspx?frmbase=resultats&frmmode=1&frmespace=0&frmcompetition=319177&FrmLigue=I-F"
 target="_blank" rel="noreferrer
 noopener">I-F</a></td>
 			<td>MIF/12</td>
 			<td> </td>
 			<td> </td>
 		</tr>
 		<tr>
 			<td
 colspan="2"> </td>
 			<td colspan="8">16''01(+1.6) - 1m26 - 5m61 -
 14''63(+0.0) - 4m08(+2.2) - 14m84 -
 3'15''01</td>
 		</tr>
 		<tr>
 			<td>18ieme</td>
 			<td>2 412
 pts</td>
 			<td><a
 href="https://www.athle.fr/athletes/2584336/resultats"
 target="_blank" rel="noreferrer noopener">LOUIS
 Clementine</a></td>
 			<td><a
 href="https://www.athle.fr/bases/liste.aspx?frmbase=resultats&frmmode=1&pardisplay=1&frmespace=0&frmcompetition=319177&frmclub=095044"
 target="_blank" rel="noreferrer noopener">Acsam</a></td>
 			<td><a
 href="https://www.athle.fr/bases/liste.aspx?frmbase=resultats&frmmode=1&frmespace=0&frmcompetition=319177&FrmDepartement=095"
 target="_blank" rel="noreferrer noopener">095</a></td>
 			<td><a
 href="https://www.athle.fr/bases/liste.aspx?frmbase=resultats&frmmode=1&frmespace=0&frmcompetition=319177&FrmLigue=I-F"
 target="_blank" rel="noreferrer
 noopener">I-F</a></td>
 			<td>MIF/12</td>
 			<td> </td>
 			<td> </td>
 		</tr>
 		<tr>
 			<td
 colspan="2"> </td>
 			<td colspan="8">17''55(+1.6) - 1m38 - 5m47 -
 14''42(+0.0) - 3m82(+0.8) - 10m90 -
 3'33''94</td>
 		</tr>
 		<tr>
 			<td>28 ieme</td>
 			<td>1 875
 pts</td>
 			<td><a
 href="https://www.athle.fr/athletes/3105206/resultats"
 target="_blank" rel="noreferrer noopener">DOTTORI
 Typhaine</a></td>
 			<td><a
 href="https://www.athle.fr/bases/liste.aspx?frmbase=resultats&frmmode=1&pardisplay=1&frmespace=0&frmcompetition=319177&frmclub=095044"
 target="_blank" rel="noreferrer noopener">Acsam</a></td>
 			<td><a
 href="https://www.athle.fr/bases/liste.aspx?frmbase=resultats&frmmode=1&frmespace=0&frmcompetition=319177&FrmDepartement=095"
 target="_blank" rel="noreferrer noopener">095</a></td>
 			<td><a
 href="https://www.athle.fr/bases/liste.aspx?frmbase=resultats&frmmode=1&frmespace=0&frmcompetition=319177&FrmLigue=I-F"
 target="_blank" rel="noreferrer
 noopener">I-F</a></td>
 			<td>MIF/11</td>
 			<td> </td>
 			<td> </td>
 		</tr>
 		<tr>
 			<td
 colspan="2"> </td>
 			<td colspan="8">18''06(+1.5) - 1m26 - 5m64 -
 15''52(+0.0) - 3m60(+0.5) - 14m29 -
 4'07''28</td>
 		</tr>
 	</tbody>
 </table>
 
 <table>
 	<tbody>
 		<tr>
 			<td>4
 ieme</td>
 			<td>1 555 pts</td>
 			<td><a
 href="https://www.athle.fr/athletes/3157356/resultats"
 target="_blank" rel="noreferrer noopener">LOUIBA BELLILI
 Lena</a></td>
 			<td><a
 href="https://www.athle.fr/bases/liste.aspx?frmbase=resultats&frmmode=1&pardisplay=1&frmespace=0&frmcompetition=319177&frmclub=095044"
 target="_blank" rel="noreferrer noopener">Acsam</a></td>
 			<td><a
 href="https://www.athle.fr/bases/liste.aspx?frmbase=resultats&frmmode=1&frmespace=0&frmcompetition=319177&FrmDepartement=095"
 target="_blank" rel="noreferrer noopener">095</a></td>
 			<td><a
 href="https://www.athle.fr/bases/liste.aspx?frmbase=resultats&frmmode=1&frmespace=0&frmcompetition=319177&FrmLigue=I-F"
 target="_blank" rel="noreferrer
 noopener">I-F</a></td>
 			<td>BEF/13</td>
 			<td> </td>
 			<td> </td>
 		</tr>
 		<tr>
 			<td
 colspan="2"> </td>
 			<td colspan="8">50 haies 10''13 -  haut 1m20
 -  jav 19m78 - 1000 m 3'30''01</td>
 		</tr>
 		<tr>
 			<td>6
 ieme</td>
 			<td>1 463 pts</td>
 			<td><a
 href="https://www.athle.fr/athletes/3408849/resultats"
 target="_blank" rel="noreferrer noopener">PERDIGAO-CARDOSO
 Alicia</a></td>
 			<td><a
 href="https://www.athle.fr/bases/liste.aspx?frmbase=resultats&frmmode=1&pardisplay=1&frmespace=0&frmcompetition=319177&frmclub=095044"
 target="_blank" rel="noreferrer noopener">Acsam</a></td>
 			<td><a
 href="https://www.athle.fr/bases/liste.aspx?frmbase=resultats&frmmode=1&frmespace=0&frmcompetition=319177&FrmDepartement=095"
 target="_blank" rel="noreferrer noopener">095</a></td>
 			<td><a
 href="https://www.athle.fr/bases/liste.aspx?frmbase=resultats&frmmode=1&frmespace=0&frmcompetition=319177&FrmLigue=I-F"
 target="_blank" rel="noreferrer
 noopener">I-F</a></td>
 			<td>BEF/13</td>
 			<td> </td>
 			<td> </td>
 		</tr>
 		<tr>
 			<td
 colspan="2"> </td>
 			<td colspan="8">11''14(-1.7) - 1m23 - 12m24 -
 3'10''64 record Val d'Oise</td>
 		</tr>
 		<tr>
 			<td>10
 ieme</td>
 			<td>1 336 pts</td>
 			<td><a
 href="https://www.athle.fr/athletes/3347223/resultats"
 target="_blank" rel="noreferrer noopener">HABIB
 Victoire</a></td>
 			<td><a
 href="https://www.athle.fr/bases/liste.aspx?frmbase=resultats&frmmode=1&pardisplay=1&frmespace=0&frmcompetition=319177&frmclub=095044"
 target="_blank" rel="noreferrer noopener">Acsam</a></td>
 			<td><a
 href="https://www.athle.fr/bases/liste.aspx?frmbase=resultats&frmmode=1&frmespace=0&frmcompetition=319177&FrmDepartement=095"
 target="_blank" rel="noreferrer noopener">095</a></td>
 			<td><a
 href="https://www.athle.fr/bases/liste.aspx?frmbase=resultats&frmmode=1&frmespace=0&frmcompetition=319177&FrmLigue=I-F"
 target="_blank" rel="noreferrer
 noopener">I-F</a></td>
 			<td>BEF/13</td>
 			<td> </td>
 			<td> </td>
 		</tr>
 		<tr>
 			<td
 colspan="2"> </td>
 			<td colspan="8">10''64(-1.5) - 1m08 - 10m75 -
 3'14''81</td>
 		</tr>
 	</tbody>
 </table>
URL;VALUE=URI:https://acsam.sportsregions.fr/evenements/2026/04/11/resultats-championnats-epreuves-combinees-benjamins-minimes-a-beaumont-sur-oise-2396930
END:VEVENT
END:VCALENDAR
