BEGIN:VCALENDAR
VERSION:2.0
PRODID:-//hacksw/handcal//NONSGML v1.0//EN
BEGIN:VEVENT
SUMMARY:L'ACSAM souhaite un joyeux anniversaire a Alexis PERCHAT
UID:01601365-6384-4f51-a65b-c71ea68475a9
DTSTART:20260412T220000Z
DTEND:20260413T220000Z
LOCATION:Localisation   
CATEGORIES:Sportif
STATUS:
URL;VALUE=URI:https://acsam.sportsregions.fr/evenements/2026/04/13/lacsam-souhaite-un-joyeux-anniversaire-a-alexis-perchat-2437535
END:VEVENT
END:VCALENDAR
