BEGIN:VCALENDAR
VERSION:2.0
PRODID:-//hacksw/handcal//NONSGML v1.0//EN
BEGIN:VEVENT
SUMMARY:L'ACSAM souhaite un joyeux anniversaire a Mady KANOUTE
UID:198ebc4c-0dab-4c59-9e64-98b0224daa75
DTSTART:20260413T220000Z
DTEND:20260414T220000Z
LOCATION:Localisation   
CATEGORIES:Sportif
STATUS:
URL;VALUE=URI:https://acsam.sportsregions.fr/evenements/2026/04/14/lacsam-souhaite-un-joyeux-anniversaire-a-mady-kanoute-2437420
END:VEVENT
END:VCALENDAR
