BEGIN:VCALENDAR
VERSION:2.0
PRODID:-//hacksw/handcal//NONSGML v1.0//EN
BEGIN:VEVENT
SUMMARY:L'ACSAM souhaite un joyeux anniversaire a Lucas EYRAUD
UID:cf9b2f7a-b167-46aa-bb31-8b2e22291c1e
DTSTART:20260414T220000Z
DTEND:20260415T220000Z
LOCATION:Localisation   
CATEGORIES:Sportif
STATUS:
URL;VALUE=URI:https://acsam.sportsregions.fr/evenements/2026/04/15/lacsam-souhaite-un-joyeux-anniversaire-a-lucas-eyraud-2437416
END:VEVENT
END:VCALENDAR
