BEGIN:VCALENDAR
VERSION:2.0
PRODID:-//hacksw/handcal//NONSGML v1.0//EN
BEGIN:VEVENT
SUMMARY:L'ACSAM souhaite un joyeux anniversaire a CaIi BAREME BROUSTAUD
UID:c03dc3d2-1e3a-43d4-9158-0be55391463c
DTSTART:20260415T220000Z
DTEND:20260416T220000Z
LOCATION:Localisation   
CATEGORIES:Sportif
STATUS:
URL;VALUE=URI:https://acsam.sportsregions.fr/evenements/2026/04/16/lacsam-souhaite-un-joyeux-anniversaire-a-caii-bareme-broustaud-2437534
END:VEVENT
END:VCALENDAR
