BEGIN:VCALENDAR
VERSION:2.0
PRODID:-//hacksw/handcal//NONSGML v1.0//EN
BEGIN:VEVENT
SUMMARY:L'ACSAM souhaite un joyeux anniversaire a Servane DOCEUIL
UID:b9e5260d-4910-463d-8ddc-9ea8f0b55872
DTSTART:20260419T220000Z
DTEND:20260420T220000Z
LOCATION:Localisation   
CATEGORIES:Sportif
STATUS:
URL;VALUE=URI:https://acsam.sportsregions.fr/evenements/2026/04/20/lacsam-souhaite-un-joyeux-anniversaire-a-servane-doceuil-2437410
END:VEVENT
END:VCALENDAR
