BEGIN:VCALENDAR
VERSION:2.0
PRODID:-//hacksw/handcal//NONSGML v1.0//EN
BEGIN:VEVENT
SUMMARY:L'ACSAM souhaite un joyeux anniversaire a LAZAAR Nahil
UID:f254ce0d-3c0b-47c6-b788-2d7da9b8aa45
DTSTART:20260510T220000Z
DTEND:20260511T220000Z
LOCATION:Localisation   
CATEGORIES:Sportif
STATUS:
URL;VALUE=URI:https://acsam.sportsregions.fr/evenements/2026/05/11/lacsam-souhaite-un-joyeux-anniversaire-a-lazaar-nahil-2442573
END:VEVENT
END:VCALENDAR
