BEGIN:VCALENDAR
VERSION:2.0
PRODID:-//hacksw/handcal//NONSGML v1.0//EN
BEGIN:VEVENT
SUMMARY:L'ACSAM souhaite un joyeux anniversaire a Florent MARGUERIE
UID:501c6e61-ca49-41b7-b260-1486e18ea057
DTSTART:20260512T220000Z
DTEND:20260513T220000Z
LOCATION:Localisation   
CATEGORIES:Sportif
STATUS:
URL;VALUE=URI:https://acsam.sportsregions.fr/evenements/2026/05/13/lacsam-souhaite-un-joyeux-anniversaire-a-florent-marguerie-2442554
END:VEVENT
END:VCALENDAR
