BEGIN:VCALENDAR
VERSION:2.0
PRODID:-//hacksw/handcal//NONSGML v1.0//EN
BEGIN:VEVENT
SUMMARY:L'ACSAM souhaite un joyeux anniversaire a EVSEN Zana
UID:89e1e830-725f-45b9-9a1d-8c80c90e09ef
DTSTART:20260513T220000Z
DTEND:20260514T220000Z
LOCATION:Localisation   
CATEGORIES:Sportif
STATUS:
URL;VALUE=URI:https://acsam.sportsregions.fr/evenements/2026/05/14/lacsam-souhaite-un-joyeux-anniversaire-a-evsen-zana-2442572
END:VEVENT
END:VCALENDAR
