BEGIN:VCALENDAR
VERSION:2.0
PRODID:-//hacksw/handcal//NONSGML v1.0//EN
BEGIN:VEVENT
SUMMARY:L'ACSAM souhaite un joyeux anniversaire a Valentin REBOULLEAU
UID:2de398ec-33c5-4a68-91f6-32b63ea3a07b
DTSTART:20260513T220000Z
DTEND:20260514T220000Z
LOCATION:Localisation   
CATEGORIES:Sportif
STATUS:
URL;VALUE=URI:https://acsam.sportsregions.fr/evenements/2026/05/14/lacsam-souhaite-un-joyeux-anniversaire-a-valentin-reboulleau-2442549
END:VEVENT
END:VCALENDAR
