BEGIN:VCALENDAR
VERSION:2.0
PRODID:-//hacksw/handcal//NONSGML v1.0//EN
BEGIN:VEVENT
SUMMARY:L'ACSAM souhaite un joyeux anniversaire a FROBERT Edward
UID:733fe019-8d9f-40eb-bdc7-b4d35f403236
DTSTART:20260516T220000Z
DTEND:20260517T220000Z
LOCATION:Localisation   
CATEGORIES:Sportif
STATUS:
URL;VALUE=URI:https://acsam.sportsregions.fr/evenements/2026/05/17/lacsam-souhaite-un-joyeux-anniversaire-a-frobert-edward-2442569
END:VEVENT
END:VCALENDAR
