BEGIN:VCALENDAR
VERSION:2.0
PRODID:-//hacksw/handcal//NONSGML v1.0//EN
BEGIN:VEVENT
SUMMARY:L'ACSAM souhaite un joyeux anniversaire a Louis BOULISSIERE
UID:dd387cf3-2c4e-45e8-b921-b3b2b203195c
DTSTART:20260517T220000Z
DTEND:20260518T220000Z
LOCATION:Localisation   
CATEGORIES:Sportif
STATUS:
URL;VALUE=URI:https://acsam.sportsregions.fr/evenements/2026/05/18/lacsam-souhaite-un-joyeux-anniversaire-a-louis-boulissiere-2442557
END:VEVENT
END:VCALENDAR
