BEGIN:VCALENDAR
VERSION:2.0
PRODID:-//hacksw/handcal//NONSGML v1.0//EN
BEGIN:VEVENT
SUMMARY:L'ACSAM souhaite un joyeux anniversaire a LILLA Inaya
UID:11687125-f704-4472-8169-c0edd6ec2734
DTSTART:20260518T220000Z
DTEND:20260519T220000Z
LOCATION:Localisation   
CATEGORIES:Sportif
STATUS:
URL;VALUE=URI:https://acsam.sportsregions.fr/evenements/2026/05/19/lacsam-souhaite-un-joyeux-anniversaire-a-lilla-inaya-2442564
END:VEVENT
END:VCALENDAR
