BEGIN:VCALENDAR
VERSION:2.0
PRODID:-//hacksw/handcal//NONSGML v1.0//EN
BEGIN:VEVENT
SUMMARY:L'ACSAM souhaite un joyeux anniversaire a Victoire HABIB
UID:11502dd3-1140-4ced-8fab-b2d5d08f864e
DTSTART:20260522T220000Z
DTEND:20260523T220000Z
LOCATION:Localisation   
CATEGORIES:Sportif
STATUS:
URL;VALUE=URI:https://acsam.sportsregions.fr/evenements/2026/05/23/lacsam-souhaite-un-joyeux-anniversaire-a-victoire-habib-2442562
END:VEVENT
END:VCALENDAR
