BEGIN:VCALENDAR
VERSION:2.0
PRODID:-//hacksw/handcal//NONSGML v1.0//EN
BEGIN:VEVENT
SUMMARY:L'L'ACSAM souhaite un joyeux anniversaire a Hamid MOUNTIJ
UID:731a2dbe-fed5-4511-811f-d7e0ad5ffc94
DTSTART:20260528T220000Z
DTEND:20260529T220000Z
LOCATION:Localisation   
CATEGORIES:Sportif
STATUS:
URL;VALUE=URI:https://acsam.sportsregions.fr/evenements/2026/05/29/llacsam-souhaite-un-joyeux-anniversaire-a-hamid-mountij-2442555
END:VEVENT
END:VCALENDAR
