BEGIN:VCALENDAR
VERSION:2.0
PRODID:-//hacksw/handcal//NONSGML v1.0//EN
BEGIN:VEVENT
SUMMARY:L'ACSAM souhaite un joyeux anniversaire a BOULISSIERE Emmanuelle
UID:d06b039b-1b26-4c99-93e6-28ac78db6cc9
DTSTART:20260529T220000Z
DTEND:20260530T220000Z
LOCATION:Localisation   
CATEGORIES:Sportif
STATUS:
URL;VALUE=URI:https://acsam.sportsregions.fr/evenements/2026/05/30/lacsam-souhaite-un-joyeux-anniversaire-a-boulissiere-emmanuelle-2442550
END:VEVENT
END:VCALENDAR
