BEGIN:VCALENDAR
VERSION:2.0
PRODID:-//hacksw/handcal//NONSGML v1.0//EN
BEGIN:VEVENT
SUMMARY:L'ACSAM souhaite un joyeux anniversaire a LEOPOLD Maeva
UID:b3109b85-c138-480c-868a-c9602541bbe0
DTSTART:20260529T220000Z
DTEND:20260530T220000Z
LOCATION:Localisation   
CATEGORIES:Sportif
STATUS:
URL;VALUE=URI:https://acsam.sportsregions.fr/evenements/2026/05/30/lacsam-souhaite-un-joyeux-anniversaire-a-leopold-maeva-2442566
END:VEVENT
END:VCALENDAR
