BEGIN:VCALENDAR
VERSION:2.0
PRODID:-//hacksw/handcal//NONSGML v1.0//EN
BEGIN:VEVENT
SUMMARY:Chpt 95 Relais 8228 Be/mi, Marche, Steeple, 3000m a Soisy Sous Montmorency
UID:ce002510-ce2e-49cb-8bac-e0c614c169a3
DTSTART:20260602T220000Z
DTEND:20260603T220000Z
LOCATION:Localisation   
CATEGORIES:Sportif
STATUS:
DESCRIPTION:<p> </p>
 
 <p> </p>
 
 <p>Mercredi 3 juin 2026 Engagements
 acsam.athle @ gmail .com, jusqu’au mardi 2 juin a
 9h.</p>
 
 <p>Horaires precis mardi apres-midi sur athle.live Horaires
 previsionnels</p>
 
 <p>18h  relais 8228 benjamin et minime F / M /
 Mixte</p>
 
 <p>19h Steeple F (76 cm) : 2 000m steeple CAF JUF & 3 000m
 steeple TCF</p>
 
 <p>19h15 Steeple M (84 cm) : 2 000m steeple CAM
 Steeple M (91 cm) :</p>
 
 <p>19h30 3 000m steeple TCM</p>
 
 <p>20h 3
 000m CAF – JUF 3 000m CAM</p>
 
 <p>20h20 3 000m marche CA a VE F 5
 000m marche CA a VE M</p>
URL;VALUE=URI:https://acsam.sportsregions.fr/evenements/2026/06/03/chpt-95-relais-8228-bemi-marche-steeple-3000m-a-soisy-sous-montmorency-2419031
END:VEVENT
END:VCALENDAR
