BEGIN:VCALENDAR
VERSION:2.0
PRODID:-//hacksw/handcal//NONSGML v1.0//EN
BEGIN:VEVENT
SUMMARY:Meeting Taverny 1000 benjamins et minimes
UID:7c70c7d9-9731-4605-a189-ed7add664722
DTSTART:20260616T220000Z
DTEND:20260617T220000Z
LOCATION:Localisation   
CATEGORIES:Sportif
STATUS:
DESCRIPTION:<p>Epreuves : 17h30 : perche barre libre<br>
 18h15 :
 1000m BeMi<br>
 19h : 100m<br>
 19h30 : perche 1e barre 3,50m<br>
 20h :
 3000m<br>
 20h45 : 1500m<br>
 21h30 : 400m</p>
 
 <p>Conditions :
 Engagements sur athle live, jusqu'au <b>mardi 16 a
 13h</b><br>
 Horaires precis mardi apres-midi sur athle.live</p>
URL;VALUE=URI:https://acsam.sportsregions.fr/evenements/2026/06/17/meeting-taverny-1000-benjamins-et-minimes-2424011
END:VEVENT
END:VCALENDAR
