BEGIN:VCALENDAR
VERSION:2.0
PRODID:-//hacksw/handcal//NONSGML v1.0//EN
BEGIN:VEVENT
SUMMARY:Meeting ACSAM Soisy 1000 metres a confirmer
UID:ff4d7f0a-d637-4674-8aef-71b0d6b42771
DTSTART:20260625T220000Z
DTEND:20260626T220000Z
LOCATION:Localisation   
CATEGORIES:Sportif
STATUS:
URL;VALUE=URI:https://acsam.sportsregions.fr/evenements/2026/06/26/meeting-acsam-soisy-1000-metres-a-confirmer-2430269
END:VEVENT
END:VCALENDAR
